Workbook
Name Look_Up_Table: #REF!
Name Look_Up_Table_2: #REF!
Name Sheets: #REF!

Sheet Cover
A1: =$C$6 -> NESO Cost Reporting Tables
A2: =$E$12 -> National Energy System Operator
A3: =$E$16 -> 2026/27
C6: NESO Cost Reporting Tables
D12: Name: | E12: National Energy System Operator
D14: Short Name: | E14: NESO
D16: Reporting Year: | E16: 2026/27
D18: Version Number: | E18: 1
D20: Date of Submission: | E20: 23rd October 2026
D21: Date of Prior Submission: | E21: 15th May 2026
A25: Cell Format Key
D27: Cell intentionally blank
C28: Value | D28: Input
C29: Value | D29: Imported/ Linked Value
C30: Value | D30: Calculation
C31: Value | D31: Output
C32: Value | D32: Ex-ante Value
C33: Value | D33: Error checking
C34: Value | D34: Annotation

Sheet Contents
A1: =Cover!$C$6 -> NESO Cost Reporting Tables
A2: =Cover!$E$12 -> National Energy System Operator
A3: =Cover!$E$16 -> 2026/27
B5: Number | C5: Section | D5: Title | E5: Link
B7: 1 | C7: Total Expenditure
D8: 1.1 Total Costs | E8: Go
B10: 2 | C10: Summary Expenditure
D11: 2.1 Operational Costs | E11: Go
D12: 2.2 FTE | E12: Go
D13: 2.3 Investment Costs | E13: Go
B15: 3 | C15: Summary by Role
D16: 3.1 Energy Markets | E16: Go
D17: 3.2 Strategic Energy Planning | E17: Go
D18: 3.3 Energy Insights | E18: Go
D19: 3.4 Security of Supply Modelling | E19: Go
D20: 3.5 Whole Energy System Resilience | E20: Go
D21: 3.6 System Operations | E21: Go
D22: 3.7 Network Operability & Connections | E22: Go
D23: 3.8 Facilitating Sector Digitalisation | E23: Go
B25: 4 | C25: Summary by Function
D26: 4.1 Role Delivery Support | E26: Go
D27: 4.2 Corporate Functions | E27: Go
D28: 4.3 Cyber & Physical Security | E28: Go
D29: 4.4 Digital & Technology Support | E29: Go
D30: 4.5 Transformation | E30: Go

Sheet 1.1 Total Costs
A1: =Cover!$C$6 -> NESO Cost Reporting Tables
A2: =Cover!$E$12 -> National Energy System Operator
A3: =Cover!$E$16 -> 2026/27
A4: =Contents!D8 -> 1.1 Total Costs
E6: BP3 | F6: NESO 1
E7: 2025/26 | F7: 2026/27 | G7: 2027/28
B9: NESO Total Costs
C11: Energy Markets | D11: £m (nominal) | E11: ='3.1 Energy Markets'!F45 -> 48.037215 | F11: ='3.1 Energy Markets'!G45 -> 43.289669 | G11: ='3.1 Energy Markets'!H45 -> 40.832994
C12: Strategic Energy Planning | D12: £m (nominal) | E12: ='3.2 Strategic Energy Planning'!F45 -> 56.509336 | F12: ='3.2 Strategic Energy Planning'!G45 -> 67.566556 | G12: ='3.2 Strategic Energy Planning'!H45 -> 76.879173
C13: Energy Insights | D13: £m (nominal) | E13: ='3.3 Energy Insights'!F46 -> 10.652485 | F13: ='3.3 Energy Insights'!G46 -> 10.709554 | G13: ='3.3 Energy Insights'!H46 -> 11.258391
C14: Security of Supply Modelling | D14: £m (nominal) | E14: ='3.4 Security of Supply'!F45 -> 3.7548308 | F14: ='3.4 Security of Supply'!G45 -> 3.8470087 | G14: ='3.4 Security of Supply'!H45 -> 4.2283668
C15: Whole Energy System Resilience | D15: £m (nominal) | E15: ='3.5 Whole Energy System Resilie'!F41 -> 11.530339 | F15: ='3.5 Whole Energy System Resilie'!G41 -> 17.095765 | G15: ='3.5 Whole Energy System Resilie'!H41 -> 17.314361
C16: System Operations | D16: £m (nominal) | E16: ='3.6 System Operations'!F56 -> 122.55298 | F16: ='3.6 System Operations'!G56 -> 127.97293 | G16: ='3.6 System Operations'!H56 -> 123.40487
C17: Network Operability & Connections | D17: £m (nominal) | E17: ='3.7 Network Operability'!F44 -> 55.630499 | F17: ='3.7 Network Operability'!G44 -> 57.026622 | G17: ='3.7 Network Operability'!H44 -> 58.310249
C18: Facilitating Sector Digitalisation | D18: £m (nominal) | E18: ='3.8 Facilitating Sector'!F33 -> 4.1637194 | F18: ='3.8 Facilitating Sector'!G33 -> 15.818085 | G18: ='3.8 Facilitating Sector'!H33 -> 21.745131
C19: Role Costs Total | D19: £m (nominal) | E19: =SUM(E11:E18) -> 312.8314 | F19: =SUM(F11:F18) -> 343.32619 | G19: =SUM(G11:G18) -> 353.97354
C21: Role Delivery Support | D21: £m (nominal) | E21: ='4.1 Role Delivery Support'!F50 -> 43.200113 | F21: ='4.1 Role Delivery Support'!G50 -> 37.146189 | G21: ='4.1 Role Delivery Support'!H50 -> 59.987036
C22: Corporate Functions | D22: £m (nominal) | E22: ='4.2 Corporate Functions'!F53 -> 77.685981 | F22: ='4.2 Corporate Functions'!G53 -> 111.29434 | G22: ='4.2 Corporate Functions'!H53 -> 115.33859
C23: Cyber & Physical Security | D23: £m (nominal) | E23: ='4.3 Cyber & Physical Security'!F31 -> 28.081664 | F23: ='4.3 Cyber & Physical Security'!G31 -> 17.340511 | G23: ='4.3 Cyber & Physical Security'!H31 -> 35.907165
C24: Digital & Technology Support | D24: £m (nominal) | E24: ='4.4 Digital & Technology Suppor'!F38 -> 149.72026 | F24: ='4.4 Digital & Technology Suppor'!G38 -> 226.00139 | G24: ='4.4 Digital & Technology Suppor'!H38 -> 196.35476
C25: Transformation | D25: £m (nominal) | E25: ='4.5 Transformation'!F40 -> 75.020419 | F25: ='4.5 Transformation'!G40 -> 88.46184 | G25: ='4.5 Transformation'!H40 -> 30.948863
C26: Supporting Function Costs Total | D26: £m (nominal) | E26: =SUM(E21:E25) -> 373.70843 | F26: =SUM(F21:F25) -> 480.24427 | G26: =SUM(G21:G25) -> 438.53641
C28: NESO Costs Sub Total | D28: £m (nominal) | E28: =E19+E26 -> 686.53984 | F28: =F19+F26 -> 823.57046 | G28: =G19+G26 -> 792.50994
C30: Efficiencies | D30: £m (nominal) | E30: 0 | F30: 0 | G30: -33.6
C31: NESO Costs Total | D31: £m (nominal) | E31: =E28+E30 -> 686.53984 | F31: =F28+F30 -> 823.57046 | G31: =G28+G30 -> 758.90994

Sheet 2.1 Operational Costs
A1: =Cover!$C$6 -> NESO Cost Reporting Tables
A2: =Cover!$E$12 -> National Energy System Operator
A3: =Cover!$E$16 -> 2026/27
A4: =Contents!D11 -> 2.1 Operational Costs
E6: BP3 | F6: NESO 1
E7: 2025/26 | F7: 2026/27 | G7: 2027/28
B9: NESO Operational Costs
C11: Energy Markets | D11: £m (nominal) | E11: ='3.1 Energy Markets'!F43 -> 21.692836 | F11: ='3.1 Energy Markets'!G43 -> 29.344404 | G11: ='3.1 Energy Markets'!H43 -> 26.497994
C12: Strategic Energy Planning | D12: £m (nominal) | E12: ='3.2 Strategic Energy Planning'!F43 -> 49.760487 | F12: ='3.2 Strategic Energy Planning'!G43 -> 56.907038 | G12: ='3.2 Strategic Energy Planning'!H43 -> 63.379173
C13: Energy Insights | D13: £m (nominal) | E13: ='3.3 Energy Insights'!F44 -> 10.652485 | F13: ='3.3 Energy Insights'!G44 -> 10.709554 | G13: ='3.3 Energy Insights'!H44 -> 11.258391
C14: Security of Supply Modelling | D14: £m (nominal) | E14: ='3.4 Security of Supply'!F43 -> 3.7548308 | F14: ='3.4 Security of Supply'!G43 -> 3.8470087 | G14: ='3.4 Security of Supply'!H43 -> 4.2283668
C15: Whole Energy System Resilience | D15: £m (nominal) | E15: ='3.5 Whole Energy System Resilie'!F39 -> 9.3048863 | F15: ='3.5 Whole Energy System Resilie'!G39 -> 11.049574 | G15: ='3.5 Whole Energy System Resilie'!H39 -> 12.744361
C16: System Operations | D16: £m (nominal) | E16: ='3.6 System Operations'!F54 -> 52.694039 | F16: ='3.6 System Operations'!G54 -> 59.638041 | G16: ='3.6 System Operations'!H54 -> 52.686374
C17: Network Operability & Connections | D17: £m (nominal) | E17: ='3.7 Network Operability'!F42 -> 46.795626 | F17: ='3.7 Network Operability'!G42 -> 46.146891 | G17: ='3.7 Network Operability'!H42 -> 45.660249
C18: Facilitating Sector Digitalisation | D18: £m (nominal) | E18: ='3.8 Facilitating Sector'!F31 -> 0.15 | F18: ='3.8 Facilitating Sector'!G31 -> 0.65740405 | G18: ='3.8 Facilitating Sector'!H31 -> 0.03236391
C19: Role Operational Costs Total | D19: £m (nominal) | E19: =SUM(E11:E18) -> 194.80519 | F19: =SUM(F11:F18) -> 218.29991 | G19: =SUM(G11:G18) -> 216.48727
C21: Role Delivery Support | D21: £m (nominal) | E21: ='4.1 Role Delivery Support'!F48 -> 12.861751 | F21: ='4.1 Role Delivery Support'!G48 -> 17.19371 | G21: ='4.1 Role Delivery Support'!H48 -> 25.383036
C22: Corporate Functions | D22: £m (nominal) | E22: ='4.2 Corporate Functions'!F51 -> 68.739109 | F22: ='4.2 Corporate Functions'!G51 -> 87.269243 | G22: ='4.2 Corporate Functions'!H51 -> 91.788589
C23: Cyber & Physical Security | D23: £m (nominal) | E23: ='4.3 Cyber & Physical Security'!F29 -> 19.745018 | F23: ='4.3 Cyber & Physical Security'!G29 -> 15.530931 | G23: ='4.3 Cyber & Physical Security'!H29 -> 16.907165
C24: Digital & Technology Support | D24: £m (nominal) | E24: ='4.4 Digital & Technology Suppor'!F36 -> 145.49354 | F24: ='4.4 Digital & Technology Suppor'!G36 -> 233.81887 | G24: ='4.4 Digital & Technology Suppor'!H36 -> 206.35476
C25: Transformation | D25: £m (nominal) | E25: ='4.5 Transformation'!F38 -> 4.0748593 | F25: ='4.5 Transformation'!G38 -> 0.05364962 | G25: ='4.5 Transformation'!H38 -> 0.012066
C26: Supporting Function Operational Costs Total | D26: £m (nominal) | E26: =SUM(E21:E25) -> 250.91428 | F26: =SUM(F21:F25) -> 353.8664 | G26: =SUM(G21:G25) -> 340.44561
C28: Operational Costs Total | D28: £m (nominal) | E28: =E19+E26 -> 445.71947 | F28: =F19+F26 -> 572.16632 | G28: =G19+G26 -> 556.93289

Sheet 2.2 FTE
A1: =Cover!$C$6 -> NESO Cost Reporting Tables
A2: =Cover!$E$12 -> National Energy System Operator
A3: =Cover!$E$16 -> 2026/27
A4: =Contents!D12 -> 2.2 FTE
E6: BP3 | F6: NESO 1
E7: 2025/26 | F7: 2026/27 | G7: 2027/28
B9: NESO FTE
C11: Energy Markets | D11: # FTE | E11: ='3.1 Energy Markets'!F47 -> 241.4837 | F11: ='3.1 Energy Markets'!G47 -> 262.7101 | G11: ='3.1 Energy Markets'!H47 -> 259.7101
C12: Strategic Energy Planning | D12: # FTE | E12: ='3.2 Strategic Energy Planning'!F47 -> 383.7843 | F12: ='3.2 Strategic Energy Planning'!G47 -> 439.9373 | G12: ='3.2 Strategic Energy Planning'!H47 -> 471.9373
C13: Energy Insights | D13: # FTE | E13: ='3.3 Energy Insights'!F48 -> 93.7034 | F13: ='3.3 Energy Insights'!G48 -> 96.9386 | G13: ='3.3 Energy Insights'!H48 -> 96.9386
C14: Security of Supply Modelling | D14: # FTE | E14: ='3.4 Security of Supply'!F47 -> 36.3243 | F14: ='3.4 Security of Supply'!G47 -> 39.6443 | G14: ='3.4 Security of Supply'!H47 -> 39.6443
C15: Whole Energy System Resilience | D15: # FTE | E15: ='3.5 Whole Energy System Resilie'!F43 -> 92.7568 | F15: ='3.5 Whole Energy System Resilie'!G43 -> 102.42648 | G15: ='3.5 Whole Energy System Resilie'!H43 -> 114.42648
C16: System Operations | D16: # FTE | E16: ='3.6 System Operations'!F58 -> 454.6162 | F16: ='3.6 System Operations'!G58 -> 483.41535 | G16: ='3.6 System Operations'!H58 -> 464.41535
C17: Network Operability & Connections | D17: # FTE | E17: ='3.7 Network Operability'!F46 -> 296.7344 | F17: ='3.7 Network Operability'!G46 -> 349.5602 | G17: ='3.7 Network Operability'!H46 -> 345.5602
C18: Facilitating Sector Digitalisation | D18: # FTE | E18: ='3.8 Facilitating Sector'!F35 -> 5 | F18: ='3.8 Facilitating Sector'!G35 -> 7 | G18: ='3.8 Facilitating Sector'!H35 -> 7
C19: Role FTE Total | D19: # FTE | E19: =SUM(E11:E18) -> 1604.4031 | F19: =SUM(F11:F18) -> 1781.6323 | G19: =SUM(G11:G18) -> 1799.6323
C21: Role Delivery Support | D21: # FTE | E21: ='4.1 Role Delivery Support'!F52 -> 159.9108 | F21: ='4.1 Role Delivery Support'!G52 -> 180.29191 | G21: ='4.1 Role Delivery Support'!H52 -> 182.29191
C22: Corporate Functions | D22: # FTE | E22: ='4.2 Corporate Functions'!F55 -> 418.4719 | F22: ='4.2 Corporate Functions'!G55 -> 485.1272 | G22: ='4.2 Corporate Functions'!H55 -> 514.7272
C23: Cyber & Physical Security | D23: # FTE | E23: ='4.3 Cyber & Physical Security'!F33 -> 65.8108 | F23: ='4.3 Cyber & Physical Security'!G33 -> 76.211064 | G23: ='4.3 Cyber & Physical Security'!H33 -> 76.211064
C24: Digital & Technology Support | D24: # FTE | E24: ='4.4 Digital & Technology Suppor'!F40 -> 368.0973 | F24: ='4.4 Digital & Technology Suppor'!G40 -> 427.76537 | G24: ='4.4 Digital & Technology Suppor'!H40 -> 427.76537
C25: Transformation | D25: # FTE | E25: ='4.5 Transformation'!F42 -> 87 | F25: ='4.5 Transformation'!G42 -> 12 | G25: ='4.5 Transformation'!H42 -> 11
C26: Supporting Function FTE Total | D26: # FTE | E26: =SUM(E21:E25) -> 1099.2908 | F26: =SUM(F21:F25) -> 1181.3955 | G26: =SUM(G21:G25) -> 1211.9955
C28: FTE Total | D28: # FTE | E28: =E19+E26 -> 2703.6939 | F28: =F19+F26 -> 2963.0279 | G28: =G19+G26 -> 3011.6279

Sheet 2.3 Investment Costs
A1: =Cover!$C$6 -> NESO Cost Reporting Tables
A2: =Cover!$E$12 -> National Energy System Operator
A3: =Cover!$E$16 -> 2026/27
A4: =Contents!D13 -> 2.3 Investment Costs
F6: BP3 | G6: NESO 1
F7: 2025/26 | G7: 2026/27 | H7: 2027/28
B9: NESO Investments
B11: Summary
D13: Energy Markets | E13: £m (nominal) | F13: =SUMIF($B$35:$B$102,$D13,F$35:F$102) -> 26.344379 | G13: =SUMIF($B$35:$B$102,$D13,G$35:G$102) -> 13.945265 | H13: =SUMIF($B$35:$B$102,$D13,H$35:H$102) -> 14.335
D14: Strategic Energy Planning | E14: £m (nominal) | F14: =SUMIF($B$35:$B$102,$D14,F$35:F$102) -> 6.7488495 | G14: =SUMIF($B$35:$B$102,$D14,G$35:G$102) -> 10.659519 | H14: =SUMIF($B$35:$B$102,$D14,H$35:H$102) -> 13.5
D15: Energy Insights | E15: £m (nominal) | F15: =SUMIF($B$35:$B$102,$D15,F$35:F$102) -> 0 | G15: =SUMIF($B$35:$B$102,$D15,G$35:G$102) -> 0 | H15: =SUMIF($B$35:$B$102,$D15,H$35:H$102) -> 0
D16: Security of Supply Modelling | E16: £m (nominal) | F16: =SUMIF($B$35:$B$102,$D16,F$35:F$102) -> 0 | G16: =SUMIF($B$35:$B$102,$D16,G$35:G$102) -> 0 | H16: =SUMIF($B$35:$B$102,$D16,H$35:H$102) -> 0
D17: Whole Energy System Resilience | E17: £m (nominal) | F17: =SUMIF($B$35:$B$102,$D17,F$35:F$102) -> 2.2254527 | G17: =SUMIF($B$35:$B$102,$D17,G$35:G$102) -> 6.0461907 | H17: =SUMIF($B$35:$B$102,$D17,H$35:H$102) -> 4.57
D18: System Operations | E18: £m (nominal) | F18: =SUMIF($B$35:$B$102,$D18,F$35:F$102) -> 69.858941 | G18: =SUMIF($B$35:$B$102,$D18,G$35:G$102) -> 68.334885 | H18: =SUMIF($B$35:$B$102,$D18,H$35:H$102) -> 70.718495
D19: Network Operability & Connections | E19: £m (nominal) | F19: =SUMIF($B$35:$B$102,$D19,F$35:F$102) -> 8.8348733 | G19: =SUMIF($B$35:$B$102,$D19,G$35:G$102) -> 10.879731 | H19: =SUMIF($B$35:$B$102,$D19,H$35:H$102) -> 12.65
D20: Facilitating Sector Digitalisation | E20: £m (nominal) | F20: =SUMIF($B$35:$B$102,$D20,F$35:F$102) -> 4.0137194 | G20: =SUMIF($B$35:$B$102,$D20,G$35:G$102) -> 15.160681 | H20: =SUMIF($B$35:$B$102,$D20,H$35:H$102) -> 21.712767
D21: Role Investment Costs Total | E21: £m (nominal) | F21: =SUM(F13:F20) -> 118.02622 | G21: =SUM(G13:G20) -> 125.02627 | H21: =SUM(H13:H20) -> 137.48626
D23: Role Delivery Support | E23: £m (nominal) | F23: =SUMIF($B$35:$B$102,$D23,F$35:F$102) -> 30.338363 | G23: =SUMIF($B$35:$B$102,$D23,G$35:G$102) -> 19.952479 | H23: =SUMIF($B$35:$B$102,$D23,H$35:H$102) -> 34.604
D24: Corporate Functions | E24: £m (nominal) | F24: =SUMIF($B$35:$B$102,$D24,F$35:F$102) -> 8.946872 | G24: =SUMIF($B$35:$B$102,$D24,G$35:G$102) -> 24.025096 | H24: =SUMIF($B$35:$B$102,$D24,H$35:H$102) -> 23.55
D25: Cyber & Physical Security | E25: £m (nominal) | F25: =SUMIF($B$35:$B$102,$D25,F$35:F$102) -> 8.3366465 | G25: =SUMIF($B$35:$B$102,$D25,G$35:G$102) -> 1.8095803 | H25: =SUMIF($B$35:$B$102,$D25,H$35:H$102) -> 19
D26: Digital & Technology Support | E26: £m (nominal) | F26: =SUMIF($B$35:$B$102,$D26,F$35:F$102) -> 4.2267155 | G26: =SUMIF($B$35:$B$102,$D26,G$35:G$102) -> -7.8174784 | H26: =SUMIF($B$35:$B$102,$D26,H$35:H$102) -> -10
D27: Transformation | E27: £m (nominal) | F27: =SUMIF($B$35:$B$102,$D27,F$35:F$102) -> 70.94556 | G27: =SUMIF($B$35:$B$102,$D27,G$35:G$102) -> 88.40819 | H27: =SUMIF($B$35:$B$102,$D27,H$35:H$102) -> 30.936797
D28: Supporting Function Investment Costs Total | E28: £m (nominal) | F28: =SUM(F23:F27) -> 122.79416 | G28: =SUM(G23:G27) -> 126.37787 | H28: =SUM(H23:H27) -> 98.090797
D30: Investments Costs Total | E30: £m (nominal) | F30: =F21+F28 -> 240.82037 | G30: =G21+G28 -> 251.40414 | H30: =H21+H28 -> 235.57706
B32: Investments
B34: Role/Function | C34: Investment ID | D34: Investment Name
B35: Role Delivery Support | C35: NESO1-100 | D35: Innovation Productionisation | E35: £m (nominal) | F35: 2.6194313 | G35: =IFERROR(VLOOKUP(D:D,'3.1 Energy Markets'!D:H,4,FALSE),0)+IFERROR(VLOOKUP(D:D,'3.2 Strategic Energy Planning'!D:H,4,FALSE),0)+IFERROR(VLOOKUP(D:D,'3.3 Energy Insights'!D:H,4,FALSE),0)+IFERROR(VLOOKUP(D:D,'3.4 Security of Supply'!D:H,4,FALSE),0)+IFERROR(VLOOKUP(D:D,'3.5 Whole Energy System Resilie'!D:H,4,FALSE),0)+IFERROR(VLOOKUP(D:D,'3.6 System Operations'!D:H,4,FALSE),0)+IFERROR(VLOOKUP(D:D,'3.7 Network Operability'!D:H,4,FALSE),0)+IFERROR(VLOOKUP(D:D,'3.8 Facilitating Sector'!D:H,4,FALSE),0)+IFERROR(VLOOKUP(D:D,'4.1 Role Delivery Support'!D:H,4,FALSE),0)+IFERROR(VLOOKUP(D:D,'4.2 Corporate Functions'!D:H,4,FALSE),0)+IFERROR(VLOOKUP(D:D,'4.3 Cyber & Physical Security'!D:H,4,FALSE),0)+IFERROR(VLOOKUP(D:D,'4.4 Digital & Technology Suppor'!D:H,4,FALSE),0)+IFERROR(VLOOKUP(D:D,'4.5 Transformation'!D:H,4,FALSE),0) -> 0.55185932 | H35: =IFERROR(VLOOKUP(D:D,'3.1 Energy Markets'!D:H,5,FALSE),0)+IFERROR(VLOOKUP(D:D,'3.2 Strategic Energy Planning'!D:H,5,FALSE),0)+IFERROR(VLOOKUP(D:D,'3.3 Energy Insights'!D:H,5,FALSE),0)+IFERROR(VLOOKUP(D:D,'3.4 Security of Supply'!D:H,5,FALSE),0)+IFERROR(VLOOKUP(D:D,'3.5 Whole Energy System Resilie'!D:H,5,FALSE),0)+IFERROR(VLOOKUP(D:D,'3.6 System Operations'!D:H,5,FALSE),0)+IFERROR(VLOOKUP(D:D,'3.7 Network Operability'!D:H,5,FALSE),0)+IFERROR(VLOOKUP(D:D,'3.8 Facilitating Sector'!D:H,5,FALSE),0)+IFERROR(VLOOKUP(D:D,'4.1 Role Delivery Support'!D:H,5,FALSE),0)+IFERROR(VLOOKUP(D:D,'4.2 Corporate Functions'!D:H,5,FALSE),0)+IFERROR(VLOOKUP(D:D,'4.3 Cyber & Physical Security'!D:H,5,FALSE),0)+IFERROR(VLOOKUP(D:D,'4.4 Digital & Technology Suppor'!D:H,5,FALSE),0)+IFERROR(VLOOKUP(D:D,'4.5 Transformation'!D:H,5,FALSE),0) -> 5
B36: Role Delivery Support | C36: NESO1-110 | D36: NESO AI Energy Core Delivery | E36: £m (nominal) | F36: 5.6051092 | G36: =IFERROR(VLOOKUP(D:D,'3.1 Energy Markets'!D:H,4,FALSE),0)+IFERROR(VLOOKUP(D:D,'3.2 Strategic Energy Planning'!D:H,4,FALSE),0)+IFERROR(VLOOKUP(D:D,'3.3 Energy Insights'!D:H,4,FALSE),0)+IFERROR(VLOOKUP(D:D,'3.4 Security of Supply'!D:H,4,FALSE),0)+IFERROR(VLOOKUP(D:D,'3.5 Whole Energy System Resilie'!D:H,4,FALSE),0)+IFERROR(VLOOKUP(D:D,'3.6 System Operations'!D:H,4,FALSE),0)+IFERROR(VLOOKUP(D:D,'3.7 Network Operability'!D:H,4,FALSE),0)+IFERROR(VLOOKUP(D:D,'3.8 Facilitating Sector'!D:H,4,FALSE),0)+IFERROR(VLOOKUP(D:D,'4.1 Role Delivery Support'!D:H,4,FALSE),0)+IFERROR(VLOOKUP(D:D,'4.2 Corporate Functions'!D:H,4,FALSE),0)+IFERROR(VLOOKUP(D:D,'4.3 Cyber & Physical Security'!D:H,4,FALSE),0)+IFERROR(VLOOKUP(D:D,'4.4 Digital & Technology Suppor'!D:H,4,FALSE),0)+IFERROR(VLOOKUP(D:D,'4.5 Transformation'!D:H,4,FALSE),0) -> 13.565197 | H36: =IFERROR(VLOOKUP(D:D,'3.1 Energy Markets'!D:H,5,FALSE),0)+IFERROR(VLOOKUP(D:D,'3.2 Strategic Energy Planning'!D:H,5,FALSE),0)+IFERROR(VLOOKUP(D:D,'3.3 Energy Insights'!D:H,5,FALSE),0)+IFERROR(VLOOKUP(D:D,'3.4 Security of Supply'!D:H,5,FALSE),0)+IFERROR(VLOOKUP(D:D,'3.5 Whole Energy System Resilie'!D:H,5,FALSE),0)+IFERROR(VLOOKUP(D:D,'3.6 System Operations'!D:H,5,FALSE),0)+IFERROR(VLOOKUP(D:D,'3.7 Network Operability'!D:H,5,FALSE),0)+IFERROR(VLOOKUP(D:D,'3.8 Facilitating Sector'!D:H,5,FALSE),0)+IFERROR(VLOOKUP(D:D,'4.1 Role Delivery Support'!D:H,5,FALSE),0)+IFERROR(VLOOKUP(D:D,'4.2 Corporate Functions'!D:H,5,FALSE),0)+IFERROR(VLOOKUP(D:D,'4.3 Cyber & Physical Security'!D:H,5,FALSE),0)+IFERROR(VLOOKUP(D:D,'4.4 Digital & Technology Suppor'!D:H,5,FALSE),0)+IFERROR(VLOOKUP(D:D,'4.5 Transformation'!D:H,5,FALSE),0) -> 12.4
B37: Facilitating Sector Digitalisation | C37: NESO1-120 | D37: Data Sharing Infrastructure | E37: £m (nominal) | F37: 4.0137194 | G37: =IFERROR(VLOOKUP(D:D,'3.1 Energy Markets'!D:H,4,FALSE),0)+IFERROR(VLOOKUP(D:D,'3.2 Strategic Energy Planning'!D:H,4,FALSE),0)+IFERROR(VLOOKUP(D:D,'3.3 Energy Insights'!D:H,4,FALSE),0)+IFERROR(VLOOKUP(D:D,'3.4 Security of Supply'!D:H,4,FALSE),0)+IFERROR(VLOOKUP(D:D,'3.5 Whole Energy System Resilie'!D:H,4,FALSE),0)+IFERROR(VLOOKUP(D:D,'3.6 System Operations'!D:H,4,FALSE),0)+IFERROR(VLOOKUP(D:D,'3.7 Network Operability'!D:H,4,FALSE),0)+IFERROR(VLOOKUP(D:D,'3.8 Facilitating Sector'!D:H,4,FALSE),0)+IFERROR(VLOOKUP(D:D,'4.1 Role Delivery Support'!D:H,4,FALSE),0)+IFERROR(VLOOKUP(D:D,'4.2 Corporate Functions'!D:H,4,FALSE),0)+IFERROR(VLOOKUP(D:D,'4.3 Cyber & Physical Security'!D:H,4,FALSE),0)+IFERROR(VLOOKUP(D:D,'4.4 Digital & Technology Suppor'!D:H,4,FALSE),0)+IFERROR(VLOOKUP(D:D,'4.5 Transformation'!D:H,4,FALSE),0) -> 15.160681 | H37: =IFERROR(VLOOKUP(D:D,'3.1 Energy Markets'!D:H,5,FALSE),0)+IFERROR(VLOOKUP(D:D,'3.2 Strategic Energy Planning'!D:H,5,FALSE),0)+IFERROR(VLOOKUP(D:D,'3.3 Energy Insights'!D:H,5,FALSE),0)+IFERROR(VLOOKUP(D:D,'3.4 Security of Supply'!D:H,5,FALSE),0)+IFERROR(VLOOKUP(D:D,'3.5 Whole Energy System Resilie'!D:H,5,FALSE),0)+IFERROR(VLOOKUP(D:D,'3.6 System Operations'!D:H,5,FALSE),0)+IFERROR(VLOOKUP(D:D,'3.7 Network Operability'!D:H,5,FALSE),0)+IFERROR(VLOOKUP(D:D,'3.8 Facilitating Sector'!D:H,5,FALSE),0)+IFERROR(VLOOKUP(D:D,'4.1 Role Delivery Support'!D:H,5,FALSE),0)+IFERROR(VLOOKUP(D:D,'4.2 Corporate Functions'!D:H,5,FALSE),0)+IFERROR(VLOOKUP(D:D,'4.3 Cyber & Physical Security'!D:H,5,FALSE),0)+IFERROR(VLOOKUP(D:D,'4.4 Digital & Technology Suppor'!D:H,5,FALSE),0)+IFERROR(VLOOKUP(D:D,'4.5 Transformation'!D:H,5,FALSE),0) -> 21.712767
B38: Corporate Functions | C38: NESO1-200 | D38: Digitalisation of Enabling Functions | E38: £m (nominal) | F38: 1.3410951 | G38: =IFERROR(VLOOKUP(D:D,'3.1 Energy Markets'!D:H,4,FALSE),0)+IFERROR(VLOOKUP(D:D,'3.2 Strategic Energy Planning'!D:H,4,FALSE),0)+IFERROR(VLOOKUP(D:D,'3.3 Energy Insights'!D:H,4,FALSE),0)+IFERROR(VLOOKUP(D:D,'3.4 Security of Supply'!D:H,4,FALSE),0)+IFERROR(VLOOKUP(D:D,'3.5 Whole Energy System Resilie'!D:H,4,FALSE),0)+IFERROR(VLOOKUP(D:D,'3.6 System Operations'!D:H,4,FALSE),0)+IFERROR(VLOOKUP(D:D,'3.7 Network Operability'!D:H,4,FALSE),0)+IFERROR(VLOOKUP(D:D,'3.8 Facilitating Sector'!D:H,4,FALSE),0)+IFERROR(VLOOKUP(D:D,'4.1 Role Delivery Support'!D:H,4,FALSE),0)+IFERROR(VLOOKUP(D:D,'4.2 Corporate Functions'!D:H,4,FALSE),0)+IFERROR(VLOOKUP(D:D,'4.3 Cyber & Physical Security'!D:H,4,FALSE),0)+IFERROR(VLOOKUP(D:D,'4.4 Digital & Technology Suppor'!D:H,4,FALSE),0)+IFERROR(VLOOKUP(D:D,'4.5 Transformation'!D:H,4,FALSE),0) -> 3.2923383 | H38: =IFERROR(VLOOKUP(D:D,'3.1 Energy Markets'!D:H,5,FALSE),0)+IFERROR(VLOOKUP(D:D,'3.2 Strategic Energy Planning'!D:H,5,FALSE),0)+IFERROR(VLOOKUP(D:D,'3.3 Energy Insights'!D:H,5,FALSE),0)+IFERROR(VLOOKUP(D:D,'3.4 Security of Supply'!D:H,5,FALSE),0)+IFERROR(VLOOKUP(D:D,'3.5 Whole Energy System Resilie'!D:H,5,FALSE),0)+IFERROR(VLOOKUP(D:D,'3.6 System Operations'!D:H,5,FALSE),0)+IFERROR(VLOOKUP(D:D,'3.7 Network Operability'!D:H,5,FALSE),0)+IFERROR(VLOOKUP(D:D,'3.8 Facilitating Sector'!D:H,5,FALSE),0)+IFERROR(VLOOKUP(D:D,'4.1 Role Delivery Support'!D:H,5,FALSE),0)+IFERROR(VLOOKUP(D:D,'4.2 Corporate Functions'!D:H,5,FALSE),0)+IFERROR(VLOOKUP(D:D,'4.3 Cyber & Physical Security'!D:H,5,FALSE),0)+IFERROR(VLOOKUP(D:D,'4.4 Digital & Technology Suppor'!D:H,5,FALSE),0)+IFERROR(VLOOKUP(D:D,'4.5 Transformation'!D:H,5,FALSE),0) -> 3.9
B39: Corporate Functions | C39: NESO1-210 | D39: Digital Change for Legal, Risk, and Regulation | E39: £m (nominal) | F39: 0.53455989 | G39: =IFERROR(VLOOKUP(D:D,'3.1 Energy Markets'!D:H,4,FALSE),0)+IFERROR(VLOOKUP(D:D,'3.2 Strategic Energy Planning'!D:H,4,FALSE),0)+IFERROR(VLOOKUP(D:D,'3.3 Energy Insights'!D:H,4,FALSE),0)+IFERROR(VLOOKUP(D:D,'3.4 Security of Supply'!D:H,4,FALSE),0)+IFERROR(VLOOKUP(D:D,'3.5 Whole Energy System Resilie'!D:H,4,FALSE),0)+IFERROR(VLOOKUP(D:D,'3.6 System Operations'!D:H,4,FALSE),0)+IFERROR(VLOOKUP(D:D,'3.7 Network Operability'!D:H,4,FALSE),0)+IFERROR(VLOOKUP(D:D,'3.8 Facilitating Sector'!D:H,4,FALSE),0)+IFERROR(VLOOKUP(D:D,'4.1 Role Delivery Support'!D:H,4,FALSE),0)+IFERROR(VLOOKUP(D:D,'4.2 Corporate Functions'!D:H,4,FALSE),0)+IFERROR(VLOOKUP(D:D,'4.3 Cyber & Physical Security'!D:H,4,FALSE),0)+IFERROR(VLOOKUP(D:D,'4.4 Digital & Technology Suppor'!D:H,4,FALSE),0)+IFERROR(VLOOKUP(D:D,'4.5 Transformation'!D:H,4,FALSE),0) -> 0.75000029 | H39: =IFERROR(VLOOKUP(D:D,'3.1 Energy Markets'!D:H,5,FALSE),0)+IFERROR(VLOOKUP(D:D,'3.2 Strategic Energy Planning'!D:H,5,FALSE),0)+IFERROR(VLOOKUP(D:D,'3.3 Energy Insights'!D:H,5,FALSE),0)+IFERROR(VLOOKUP(D:D,'3.4 Security of Supply'!D:H,5,FALSE),0)+IFERROR(VLOOKUP(D:D,'3.5 Whole Energy System Resilie'!D:H,5,FALSE),0)+IFERROR(VLOOKUP(D:D,'3.6 System Operations'!D:H,5,FALSE),0)+IFERROR(VLOOKUP(D:D,'3.7 Network Operability'!D:H,5,FALSE),0)+IFERROR(VLOOKUP(D:D,'3.8 Facilitating Sector'!D:H,5,FALSE),0)+IFERROR(VLOOKUP(D:D,'4.1 Role Delivery Support'!D:H,5,FALSE),0)+IFERROR(VLOOKUP(D:D,'4.2 Corporate Functions'!D:H,5,FALSE),0)+IFERROR(VLOOKUP(D:D,'4.3 Cyber & Physical Security'!D:H,5,FALSE),0)+IFERROR(VLOOKUP(D:D,'4.4 Digital & Technology Suppor'!D:H,5,FALSE),0)+IFERROR(VLOOKUP(D:D,'4.5 Transformation'!D:H,5,FALSE),0) -> 0.75
B40: Role Delivery Support | C40: NESO1-220 | D40: Network and System Modelling Capability Modernisation | E40: £m (nominal) | F40: 2.769034 | G40: =IFERROR(VLOOKUP(D:D,'3.1 Energy Markets'!D:H,4,FALSE),0)+IFERROR(VLOOKUP(D:D,'3.2 Strategic Energy Planning'!D:H,4,FALSE),0)+IFERROR(VLOOKUP(D:D,'3.3 Energy Insights'!D:H,4,FALSE),0)+IFERROR(VLOOKUP(D:D,'3.4 Security of Supply'!D:H,4,FALSE),0)+IFERROR(VLOOKUP(D:D,'3.5 Whole Energy System Resilie'!D:H,4,FALSE),0)+IFERROR(VLOOKUP(D:D,'3.6 System Operations'!D:H,4,FALSE),0)+IFERROR(VLOOKUP(D:D,'3.7 Network Operability'!D:H,4,FALSE),0)+IFERROR(VLOOKUP(D:D,'3.8 Facilitating Sector'!D:H,4,FALSE),0)+IFERROR(VLOOKUP(D:D,'4.1 Role Delivery Support'!D:H,4,FALSE),0)+IFERROR(VLOOKUP(D:D,'4.2 Corporate Functions'!D:H,4,FALSE),0)+IFERROR(VLOOKUP(D:D,'4.3 Cyber & Physical Security'!D:H,4,FALSE),0)+IFERROR(VLOOKUP(D:D,'4.4 Digital & Technology Suppor'!D:H,4,FALSE),0)+IFERROR(VLOOKUP(D:D,'4.5 Transformation'!D:H,4,FALSE),0) -> 1.9602983 | H40: =IFERROR(VLOOKUP(D:D,'3.1 Energy Markets'!D:H,5,FALSE),0)+IFERROR(VLOOKUP(D:D,'3.2 Strategic Energy Planning'!D:H,5,FALSE),0)+IFERROR(VLOOKUP(D:D,'3.3 Energy Insights'!D:H,5,FALSE),0)+IFERROR(VLOOKUP(D:D,'3.4 Security of Supply'!D:H,5,FALSE),0)+IFERROR(VLOOKUP(D:D,'3.5 Whole Energy System Resilie'!D:H,5,FALSE),0)+IFERROR(VLOOKUP(D:D,'3.6 System Operations'!D:H,5,FALSE),0)+IFERROR(VLOOKUP(D:D,'3.7 Network Operability'!D:H,5,FALSE),0)+IFERROR(VLOOKUP(D:D,'3.8 Facilitating Sector'!D:H,5,FALSE),0)+IFERROR(VLOOKUP(D:D,'4.1 Role Delivery Support'!D:H,5,FALSE),0)+IFERROR(VLOOKUP(D:D,'4.2 Corporate Functions'!D:H,5,FALSE),0)+IFERROR(VLOOKUP(D:D,'4.3 Cyber & Physical Security'!D:H,5,FALSE),0)+IFERROR(VLOOKUP(D:D,'4.4 Digital & Technology Suppor'!D:H,5,FALSE),0)+IFERROR(VLOOKUP(D:D,'4.5 Transformation'!D:H,5,FALSE),0) -> 0.3
B41: Network Operability & Connections | C41: NESO1-230 | D41: Connections Enduring Capabilities Ecosystem | E41: £m (nominal) | F41: 8.8348733 | G41: =IFERROR(VLOOKUP(D:D,'3.1 Energy Markets'!D:H,4,FALSE),0)+IFERROR(VLOOKUP(D:D,'3.2 Strategic Energy Planning'!D:H,4,FALSE),0)+IFERROR(VLOOKUP(D:D,'3.3 Energy Insights'!D:H,4,FALSE),0)+IFERROR(VLOOKUP(D:D,'3.4 Security of Supply'!D:H,4,FALSE),0)+IFERROR(VLOOKUP(D:D,'3.5 Whole Energy System Resilie'!D:H,4,FALSE),0)+IFERROR(VLOOKUP(D:D,'3.6 System Operations'!D:H,4,FALSE),0)+IFERROR(VLOOKUP(D:D,'3.7 Network Operability'!D:H,4,FALSE),0)+IFERROR(VLOOKUP(D:D,'3.8 Facilitating Sector'!D:H,4,FALSE),0)+IFERROR(VLOOKUP(D:D,'4.1 Role Delivery Support'!D:H,4,FALSE),0)+IFERROR(VLOOKUP(D:D,'4.2 Corporate Functions'!D:H,4,FALSE),0)+IFERROR(VLOOKUP(D:D,'4.3 Cyber & Physical Security'!D:H,4,FALSE),0)+IFERROR(VLOOKUP(D:D,'4.4 Digital & Technology Suppor'!D:H,4,FALSE),0)+IFERROR(VLOOKUP(D:D,'4.5 Transformation'!D:H,4,FALSE),0) -> 9.379731 | H41: =IFERROR(VLOOKUP(D:D,'3.1 Energy Markets'!D:H,5,FALSE),0)+IFERROR(VLOOKUP(D:D,'3.2 Strategic Energy Planning'!D:H,5,FALSE),0)+IFERROR(VLOOKUP(D:D,'3.3 Energy Insights'!D:H,5,FALSE),0)+IFERROR(VLOOKUP(D:D,'3.4 Security of Supply'!D:H,5,FALSE),0)+IFERROR(VLOOKUP(D:D,'3.5 Whole Energy System Resilie'!D:H,5,FALSE),0)+IFERROR(VLOOKUP(D:D,'3.6 System Operations'!D:H,5,FALSE),0)+IFERROR(VLOOKUP(D:D,'3.7 Network Operability'!D:H,5,FALSE),0)+IFERROR(VLOOKUP(D:D,'3.8 Facilitating Sector'!D:H,5,FALSE),0)+IFERROR(VLOOKUP(D:D,'4.1 Role Delivery Support'!D:H,5,FALSE),0)+IFERROR(VLOOKUP(D:D,'4.2 Corporate Functions'!D:H,5,FALSE),0)+IFERROR(VLOOKUP(D:D,'4.3 Cyber & Physical Security'!D:H,5,FALSE),0)+IFERROR(VLOOKUP(D:D,'4.4 Digital & Technology Suppor'!D:H,5,FALSE),0)+IFERROR(VLOOKUP(D:D,'4.5 Transformation'!D:H,5,FALSE),0) -> 11
B42: Network Operability & Connections | C42: NESO1-240 | D42: Clean Power 2030 Enablement | E42: £m (nominal) | F42: 0 | G42: =IFERROR(VLOOKUP(D:D,'3.1 Energy Markets'!D:H,4,FALSE),0)+IFERROR(VLOOKUP(D:D,'3.2 Strategic Energy Planning'!D:H,4,FALSE),0)+IFERROR(VLOOKUP(D:D,'3.3 Energy Insights'!D:H,4,FALSE),0)+IFERROR(VLOOKUP(D:D,'3.4 Security of Supply'!D:H,4,FALSE),0)+IFERROR(VLOOKUP(D:D,'3.5 Whole Energy System Resilie'!D:H,4,FALSE),0)+IFERROR(VLOOKUP(D:D,'3.6 System Operations'!D:H,4,FALSE),0)+IFERROR(VLOOKUP(D:D,'3.7 Network Operability'!D:H,4,FALSE),0)+IFERROR(VLOOKUP(D:D,'3.8 Facilitating Sector'!D:H,4,FALSE),0)+IFERROR(VLOOKUP(D:D,'4.1 Role Delivery Support'!D:H,4,FALSE),0)+IFERROR(VLOOKUP(D:D,'4.2 Corporate Functions'!D:H,4,FALSE),0)+IFERROR(VLOOKUP(D:D,'4.3 Cyber & Physical Security'!D:H,4,FALSE),0)+IFERROR(VLOOKUP(D:D,'4.4 Digital & Technology Suppor'!D:H,4,FALSE),0)+IFERROR(VLOOKUP(D:D,'4.5 Transformation'!D:H,4,FALSE),0) -> 1.5 | H42: =IFERROR(VLOOKUP(D:D,'3.1 Energy Markets'!D:H,5,FALSE),0)+IFERROR(VLOOKUP(D:D,'3.2 Strategic Energy Planning'!D:H,5,FALSE),0)+IFERROR(VLOOKUP(D:D,'3.3 Energy Insights'!D:H,5,FALSE),0)+IFERROR(VLOOKUP(D:D,'3.4 Security of Supply'!D:H,5,FALSE),0)+IFERROR(VLOOKUP(D:D,'3.5 Whole Energy System Resilie'!D:H,5,FALSE),0)+IFERROR(VLOOKUP(D:D,'3.6 System Operations'!D:H,5,FALSE),0)+IFERROR(VLOOKUP(D:D,'3.7 Network Operability'!D:H,5,FALSE),0)+IFERROR(VLOOKUP(D:D,'3.8 Facilitating Sector'!D:H,5,FALSE),0)+IFERROR(VLOOKUP(D:D,'4.1 Role Delivery Support'!D:H,5,FALSE),0)+IFERROR(VLOOKUP(D:D,'4.2 Corporate Functions'!D:H,5,FALSE),0)+IFERROR(VLOOKUP(D:D,'4.3 Cyber & Physical Security'!D:H,5,FALSE),0)+IFERROR(VLOOKUP(D:D,'4.4 Digital & Technology Suppor'!D:H,5,FALSE),0)+IFERROR(VLOOKUP(D:D,'4.5 Transformation'!D:H,5,FALSE),0) -> 1.65
B43: Strategic Energy Planning | C43: NESO1-250 | D43: Strategic Energy Planning | E43: £m (nominal) | F43: 6.7488495 | G43: =IFERROR(VLOOKUP(D:D,'3.1 Energy Markets'!D:H,4,FALSE),0)+IFERROR(VLOOKUP(D:D,'3.2 Strategic Energy Planning'!D:H,4,FALSE),0)+IFERROR(VLOOKUP(D:D,'3.3 Energy Insights'!D:H,4,FALSE),0)+IFERROR(VLOOKUP(D:D,'3.4 Security of Supply'!D:H,4,FALSE),0)+IFERROR(VLOOKUP(D:D,'3.5 Whole Energy System Resilie'!D:H,4,FALSE),0)+IFERROR(VLOOKUP(D:D,'3.6 System Operations'!D:H,4,FALSE),0)+IFERROR(VLOOKUP(D:D,'3.7 Network Operability'!D:H,4,FALSE),0)+IFERROR(VLOOKUP(D:D,'3.8 Facilitating Sector'!D:H,4,FALSE),0)+IFERROR(VLOOKUP(D:D,'4.1 Role Delivery Support'!D:H,4,FALSE),0)+IFERROR(VLOOKUP(D:D,'4.2 Corporate Functions'!D:H,4,FALSE),0)+IFERROR(VLOOKUP(D:D,'4.3 Cyber & Physical Security'!D:H,4,FALSE),0)+IFERROR(VLOOKUP(D:D,'4.4 Digital & Technology Suppor'!D:H,4,FALSE),0)+IFERROR(VLOOKUP(D:D,'4.5 Transformation'!D:H,4,FALSE),0) -> 10.659519 | H43: =IFERROR(VLOOKUP(D:D,'3.1 Energy Markets'!D:H,5,FALSE),0)+IFERROR(VLOOKUP(D:D,'3.2 Strategic Energy Planning'!D:H,5,FALSE),0)+IFERROR(VLOOKUP(D:D,'3.3 Energy Insights'!D:H,5,FALSE),0)+IFERROR(VLOOKUP(D:D,'3.4 Security of Supply'!D:H,5,FALSE),0)+IFERROR(VLOOKUP(D:D,'3.5 Whole Energy System Resilie'!D:H,5,FALSE),0)+IFERROR(VLOOKUP(D:D,'3.6 System Operations'!D:H,5,FALSE),0)+IFERROR(VLOOKUP(D:D,'3.7 Network Operability'!D:H,5,FALSE),0)+IFERROR(VLOOKUP(D:D,'3.8 Facilitating Sector'!D:H,5,FALSE),0)+IFERROR(VLOOKUP(D:D,'4.1 Role Delivery Support'!D:H,5,FALSE),0)+IFERROR(VLOOKUP(D:D,'4.2 Corporate Functions'!D:H,5,FALSE),0)+IFERROR(VLOOKUP(D:D,'4.3 Cyber & Physical Security'!D:H,5,FALSE),0)+IFERROR(VLOOKUP(D:D,'4.4 Digital & Technology Suppor'!D:H,5,FALSE),0)+IFERROR(VLOOKUP(D:D,'4.5 Transformation'!D:H,5,FALSE),0) -> 13.5
B44: Role Delivery Support | C44: NESO1-300 | D44: Transformation Enablement Project | E44: £m (nominal) | F44: 0 | G44: =IFERROR(VLOOKUP(D:D,'3.1 Energy Markets'!D:H,4,FALSE),0)+IFERROR(VLOOKUP(D:D,'3.2 Strategic Energy Planning'!D:H,4,FALSE),0)+IFERROR(VLOOKUP(D:D,'3.3 Energy Insights'!D:H,4,FALSE),0)+IFERROR(VLOOKUP(D:D,'3.4 Security of Supply'!D:H,4,FALSE),0)+IFERROR(VLOOKUP(D:D,'3.5 Whole Energy System Resilie'!D:H,4,FALSE),0)+IFERROR(VLOOKUP(D:D,'3.6 System Operations'!D:H,4,FALSE),0)+IFERROR(VLOOKUP(D:D,'3.7 Network Operability'!D:H,4,FALSE),0)+IFERROR(VLOOKUP(D:D,'3.8 Facilitating Sector'!D:H,4,FALSE),0)+IFERROR(VLOOKUP(D:D,'4.1 Role Delivery Support'!D:H,4,FALSE),0)+IFERROR(VLOOKUP(D:D,'4.2 Corporate Functions'!D:H,4,FALSE),0)+IFERROR(VLOOKUP(D:D,'4.3 Cyber & Physical Security'!D:H,4,FALSE),0)+IFERROR(VLOOKUP(D:D,'4.4 Digital & Technology Suppor'!D:H,4,FALSE),0)+IFERROR(VLOOKUP(D:D,'4.5 Transformation'!D:H,4,FALSE),0) -> 0 | H44: =IFERROR(VLOOKUP(D:D,'3.1 Energy Markets'!D:H,5,FALSE),0)+IFERROR(VLOOKUP(D:D,'3.2 Strategic Energy Planning'!D:H,5,FALSE),0)+IFERROR(VLOOKUP(D:D,'3.3 Energy Insights'!D:H,5,FALSE),0)+IFERROR(VLOOKUP(D:D,'3.4 Security of Supply'!D:H,5,FALSE),0)+IFERROR(VLOOKUP(D:D,'3.5 Whole Energy System Resilie'!D:H,5,FALSE),0)+IFERROR(VLOOKUP(D:D,'3.6 System Operations'!D:H,5,FALSE),0)+IFERROR(VLOOKUP(D:D,'3.7 Network Operability'!D:H,5,FALSE),0)+IFERROR(VLOOKUP(D:D,'3.8 Facilitating Sector'!D:H,5,FALSE),0)+IFERROR(VLOOKUP(D:D,'4.1 Role Delivery Support'!D:H,5,FALSE),0)+IFERROR(VLOOKUP(D:D,'4.2 Corporate Functions'!D:H,5,FALSE),0)+IFERROR(VLOOKUP(D:D,'4.3 Cyber & Physical Security'!D:H,5,FALSE),0)+IFERROR(VLOOKUP(D:D,'4.4 Digital & Technology Suppor'!D:H,5,FALSE),0)+IFERROR(VLOOKUP(D:D,'4.5 Transformation'!D:H,5,FALSE),0) -> 0
B45: Energy Markets | C45: NESO1-310 | D45: Reformed National Pricing | E45: £m (nominal) | F45: 0 | G45: =IFERROR(VLOOKUP(D:D,'3.1 Energy Markets'!D:H,4,FALSE),0)+IFERROR(VLOOKUP(D:D,'3.2 Strategic Energy Planning'!D:H,4,FALSE),0)+IFERROR(VLOOKUP(D:D,'3.3 Energy Insights'!D:H,4,FALSE),0)+IFERROR(VLOOKUP(D:D,'3.4 Security of Supply'!D:H,4,FALSE),0)+IFERROR(VLOOKUP(D:D,'3.5 Whole Energy System Resilie'!D:H,4,FALSE),0)+IFERROR(VLOOKUP(D:D,'3.6 System Operations'!D:H,4,FALSE),0)+IFERROR(VLOOKUP(D:D,'3.7 Network Operability'!D:H,4,FALSE),0)+IFERROR(VLOOKUP(D:D,'3.8 Facilitating Sector'!D:H,4,FALSE),0)+IFERROR(VLOOKUP(D:D,'4.1 Role Delivery Support'!D:H,4,FALSE),0)+IFERROR(VLOOKUP(D:D,'4.2 Corporate Functions'!D:H,4,FALSE),0)+IFERROR(VLOOKUP(D:D,'4.3 Cyber & Physical Security'!D:H,4,FALSE),0)+IFERROR(VLOOKUP(D:D,'4.4 Digital & Technology Suppor'!D:H,4,FALSE),0)+IFERROR(VLOOKUP(D:D,'4.5 Transformation'!D:H,4,FALSE),0) -> 0.23450582 | H45: =IFERROR(VLOOKUP(D:D,'3.1 Energy Markets'!D:H,5,FALSE),0)+IFERROR(VLOOKUP(D:D,'3.2 Strategic Energy Planning'!D:H,5,FALSE),0)+IFERROR(VLOOKUP(D:D,'3.3 Energy Insights'!D:H,5,FALSE),0)+IFERROR(VLOOKUP(D:D,'3.4 Security of Supply'!D:H,5,FALSE),0)+IFERROR(VLOOKUP(D:D,'3.5 Whole Energy System Resilie'!D:H,5,FALSE),0)+IFERROR(VLOOKUP(D:D,'3.6 System Operations'!D:H,5,FALSE),0)+IFERROR(VLOOKUP(D:D,'3.7 Network Operability'!D:H,5,FALSE),0)+IFERROR(VLOOKUP(D:D,'3.8 Facilitating Sector'!D:H,5,FALSE),0)+IFERROR(VLOOKUP(D:D,'4.1 Role Delivery Support'!D:H,5,FALSE),0)+IFERROR(VLOOKUP(D:D,'4.2 Corporate Functions'!D:H,5,FALSE),0)+IFERROR(VLOOKUP(D:D,'4.3 Cyber & Physical Security'!D:H,5,FALSE),0)+IFERROR(VLOOKUP(D:D,'4.4 Digital & Technology Suppor'!D:H,5,FALSE),0)+IFERROR(VLOOKUP(D:D,'4.5 Transformation'!D:H,5,FALSE),0) -> 0
B46: Energy Markets | C46: NESO1-320 | D46: Capacity Market (CM) and Contracts for Difference (CfD) Regimes | E46: £m (nominal) | F46: 7.4078545 | G46: =IFERROR(VLOOKUP(D:D,'3.1 Energy Markets'!D:H,4,FALSE),0)+IFERROR(VLOOKUP(D:D,'3.2 Strategic Energy Planning'!D:H,4,FALSE),0)+IFERROR(VLOOKUP(D:D,'3.3 Energy Insights'!D:H,4,FALSE),0)+IFERROR(VLOOKUP(D:D,'3.4 Security of Supply'!D:H,4,FALSE),0)+IFERROR(VLOOKUP(D:D,'3.5 Whole Energy System Resilie'!D:H,4,FALSE),0)+IFERROR(VLOOKUP(D:D,'3.6 System Operations'!D:H,4,FALSE),0)+IFERROR(VLOOKUP(D:D,'3.7 Network Operability'!D:H,4,FALSE),0)+IFERROR(VLOOKUP(D:D,'3.8 Facilitating Sector'!D:H,4,FALSE),0)+IFERROR(VLOOKUP(D:D,'4.1 Role Delivery Support'!D:H,4,FALSE),0)+IFERROR(VLOOKUP(D:D,'4.2 Corporate Functions'!D:H,4,FALSE),0)+IFERROR(VLOOKUP(D:D,'4.3 Cyber & Physical Security'!D:H,4,FALSE),0)+IFERROR(VLOOKUP(D:D,'4.4 Digital & Technology Suppor'!D:H,4,FALSE),0)+IFERROR(VLOOKUP(D:D,'4.5 Transformation'!D:H,4,FALSE),0) -> 0.01965432 | H46: =IFERROR(VLOOKUP(D:D,'3.1 Energy Markets'!D:H,5,FALSE),0)+IFERROR(VLOOKUP(D:D,'3.2 Strategic Energy Planning'!D:H,5,FALSE),0)+IFERROR(VLOOKUP(D:D,'3.3 Energy Insights'!D:H,5,FALSE),0)+IFERROR(VLOOKUP(D:D,'3.4 Security of Supply'!D:H,5,FALSE),0)+IFERROR(VLOOKUP(D:D,'3.5 Whole Energy System Resilie'!D:H,5,FALSE),0)+IFERROR(VLOOKUP(D:D,'3.6 System Operations'!D:H,5,FALSE),0)+IFERROR(VLOOKUP(D:D,'3.7 Network Operability'!D:H,5,FALSE),0)+IFERROR(VLOOKUP(D:D,'3.8 Facilitating Sector'!D:H,5,FALSE),0)+IFERROR(VLOOKUP(D:D,'4.1 Role Delivery Support'!D:H,5,FALSE),0)+IFERROR(VLOOKUP(D:D,'4.2 Corporate Functions'!D:H,5,FALSE),0)+IFERROR(VLOOKUP(D:D,'4.3 Cyber & Physical Security'!D:H,5,FALSE),0)+IFERROR(VLOOKUP(D:D,'4.4 Digital & Technology Suppor'!D:H,5,FALSE),0)+IFERROR(VLOOKUP(D:D,'4.5 Transformation'!D:H,5,FALSE),0) -> 0
... B69: Role Delivery Support | C69: DIG-AI | D69: Digitalisation & AI Shared | E69: £m (nominal) | F69: 0 | G69: =IFERROR(VLOOKUP(D:D,'3.1 Energy Markets'!D:H,4,FALSE),0)+IFERROR(VLOOKUP(D:D,'3.2 Strategic Energy Planning'!D:H,4,FALSE),0)+IFERROR(VLOOKUP(D:D,'3.3 Energy Insights'!D:H,4,FALSE),0)+IFERROR(VLOOKUP(D:D,'3.4 Security of Supply'!D:H,4,FALSE),0)+IFERROR(VLOOKUP(D:D,'3.5 Whole Energy System Resilie'!D:H,4,FALSE),0)+IFERROR(VLOOKUP(D:D,'3.6 System Operations'!D:H,4,FALSE),0)+IFERROR(VLOOKUP(D:D,'3.7 Network Operability'!D:H,4,FALSE),0)+IFERROR(VLOOKUP(D:D,'3.8 Facilitating Sector'!D:H,4,FALSE),0)+IFERROR(VLOOKUP(D:D,'4.1 Role Delivery Support'!D:H,4,FALSE),0)+IFERROR(VLOOKUP(D:D,'4.2 Corporate Functions'!D:H,4,FALSE),0)+IFERROR(VLOOKUP(D:D,'4.3 Cyber & Physical Security'!D:H,4,FALSE),0)+IFERROR(VLOOKUP(D:D,'4.4 Digital & Technology Suppor'!D:H,4,FALSE),0)+IFERROR(VLOOKUP(D:D,'4.5 Transformation'!D:H,4,FALSE),0) -> 0.17677177 | H69: =IFERROR(VLOOKUP(D:D,'3.1 Energy Markets'!D:H,5,FALSE),0)+IFERROR(VLOOKUP(D:D,'3.2 Strategic Energy Planning'!D:H,5,FALSE),0)+IFERROR(VLOOKUP(D:D,'3.3 Energy Insights'!D:H,5,FALSE),0)+IFERROR(VLOOKUP(D:D,'3.4 Security of Supply'!D:H,5,FALSE),0)+IFERROR(VLOOKUP(D:D,'3.5 Whole Energy System Resilie'!D:H,5,FALSE),0)+IFERROR(VLOOKUP(D:D,'3.6 System Operations'!D:H,5,FALSE),0)+IFERROR(VLOOKUP(D:D,'3.7 Network Operability'!D:H,5,FALSE),0)+IFERROR(VLOOKUP(D:D,'3.8 Facilitating Sector'!D:H,5,FALSE),0)+IFERROR(VLOOKUP(D:D,'4.1 Role Delivery Support'!D:H,5,FALSE),0)+IFERROR(VLOOKUP(D:D,'4.2 Corporate Functions'!D:H,5,FALSE),0)+IFERROR(VLOOKUP(D:D,'4.3 Cyber & Physical Security'!D:H,5,FALSE),0)+IFERROR(VLOOKUP(D:D,'4.4 Digital & Technology Suppor'!D:H,5,FALSE),0)+IFERROR(VLOOKUP(D:D,'4.5 Transformation'!D:H,5,FALSE),0) -> 0
B70: Cyber & Physical Security | D70: Cyber & Physical Security | E70: £m (nominal) | F70: 8.3366465 | G70: =IFERROR(VLOOKUP(D:D,'3.1 Energy Markets'!D:H,4,FALSE),0)+IFERROR(VLOOKUP(D:D,'3.2 Strategic Energy Planning'!D:H,4,FALSE),0)+IFERROR(VLOOKUP(D:D,'3.3 Energy Insights'!D:H,4,FALSE),0)+IFERROR(VLOOKUP(D:D,'3.4 Security of Supply'!D:H,4,FALSE),0)+IFERROR(VLOOKUP(D:D,'3.5 Whole Energy System Resilie'!D:H,4,FALSE),0)+IFERROR(VLOOKUP(D:D,'3.6 System Operations'!D:H,4,FALSE),0)+IFERROR(VLOOKUP(D:D,'3.7 Network Operability'!D:H,4,FALSE),0)+IFERROR(VLOOKUP(D:D,'3.8 Facilitating Sector'!D:H,4,FALSE),0)+IFERROR(VLOOKUP(D:D,'4.1 Role Delivery Support'!D:H,4,FALSE),0)+IFERROR(VLOOKUP(D:D,'4.2 Corporate Functions'!D:H,4,FALSE),0)+IFERROR(VLOOKUP(D:D,'4.3 Cyber & Physical Security'!D:H,4,FALSE),0)+IFERROR(VLOOKUP(D:D,'4.4 Digital & Technology Suppor'!D:H,4,FALSE),0)+IFERROR(VLOOKUP(D:D,'4.5 Transformation'!D:H,4,FALSE),0) -> 1.8095803 | H70: =IFERROR(VLOOKUP(D:D,'3.1 Energy Markets'!D:H,5,FALSE),0)+IFERROR(VLOOKUP(D:D,'3.2 Strategic Energy Planning'!D:H,5,FALSE),0)+IFERROR(VLOOKUP(D:D,'3.3 Energy Insights'!D:H,5,FALSE),0)+IFERROR(VLOOKUP(D:D,'3.4 Security of Supply'!D:H,5,FALSE),0)+IFERROR(VLOOKUP(D:D,'3.5 Whole Energy System Resilie'!D:H,5,FALSE),0)+IFERROR(VLOOKUP(D:D,'3.6 System Operations'!D:H,5,FALSE),0)+IFERROR(VLOOKUP(D:D,'3.7 Network Operability'!D:H,5,FALSE),0)+IFERROR(VLOOKUP(D:D,'3.8 Facilitating Sector'!D:H,5,FALSE),0)+IFERROR(VLOOKUP(D:D,'4.1 Role Delivery Support'!D:H,5,FALSE),0)+IFERROR(VLOOKUP(D:D,'4.2 Corporate Functions'!D:H,5,FALSE),0)+IFERROR(VLOOKUP(D:D,'4.3 Cyber & Physical Security'!D:H,5,FALSE),0)+IFERROR(VLOOKUP(D:D,'4.4 Digital & Technology Suppor'!D:H,5,FALSE),0)+IFERROR(VLOOKUP(D:D,'4.5 Transformation'!D:H,5,FALSE),0) -> 19
...

Sheet 3.1 Energy Markets
A1: =Cover!$C$6 -> NESO Cost Reporting Tables
A2: =Cover!$E$12 -> National Energy System Operator
A3: =Cover!$E$16 -> 2026/27
A4: =Contents!D16 -> 3.1 Energy Markets
F6: BP3 | G6: NESO 1
F7: 2025/26 | G7: 2026/27 | H7: 2027/28
B9: NESO Energy Markets
B11: Operational Costs
D13: Code Administration​ & Market Frameworks | E13: £m (nominal) | F13: ='[1]3.1 Energy Markets'!F13 -> 4.7937148 | G13: =SUMIF('[2]RtB & FTE'!$D:$D,$D13,'[2]RtB & FTE'!$E:$E)/10^6 -> 5.7551907 | H13: =SUMIF('[2]RtB & FTE'!$D:$D,$D13,'[2]RtB & FTE'!$G:$G)/10^6 -> 6.6175846
D14: Electricity Market Reform (EMR) Delivery Body​ | E14: £m (nominal) | F14: ='[1]3.1 Energy Markets'!F14 -> 4.013795 | G14: =SUMIF('[2]RtB & FTE'!$D:$D,$D14,'[2]RtB & FTE'!$E:$E)/10^6 -> 4.7683599 | H14: =SUMIF('[2]RtB & FTE'!$D:$D,$D14,'[2]RtB & FTE'!$G:$G)/10^6 -> 4.7190615
D15: Long Term Market Design | E15: £m (nominal) | F15: ='[1]3.1 Energy Markets'!F15 -> 4.1938501 | G15: =SUMIF('[2]RtB & FTE'!$D:$D,$D15,'[2]RtB & FTE'!$E:$E)/10^6 -> 6.8192065 | H15: =SUMIF('[2]RtB & FTE'!$D:$D,$D15,'[2]RtB & FTE'!$G:$G)/10^6 -> 5.6384267
D16: Market Development & Operations for Electricity System Balancing​ | E16: £m (nominal) | F16: ='[1]3.1 Energy Markets'!F16 -> 7.029637 | G16: =SUMIF('[2]RtB & FTE'!$D:$D,$D16,'[2]RtB & FTE'!$E:$E)/10^6 -> 8.7134814 | H16: =SUMIF('[2]RtB & FTE'!$D:$D,$D16,'[2]RtB & FTE'!$G:$G)/10^6 -> 9.1040637
D17: Market Monitoring | E17: £m (nominal) | F17: ='[1]3.1 Energy Markets'!F17 -> 0.89285586 | G17: =SUMIF('[2]RtB & FTE'!$D:$D,$D17,'[2]RtB & FTE'!$E:$E)/10^6 -> 0.86494629 | H17: =SUMIF('[2]RtB & FTE'!$D:$D,$D17,'[2]RtB & FTE'!$G:$G)/10^6 -> 0.99609215
D18: Central Costs - Energy Markets | E18: £m (nominal) | F18: ='[1]3.1 Energy Markets'!F18 -> 0.76898264 | G18: =SUMIF('[2]RtB & FTE'!$D:$D,$D18,'[2]RtB & FTE'!$E:$E)/10^6 -> 2.4232191 | H18: =SUMIF('[2]RtB & FTE'!$D:$D,$D18,'[2]RtB & FTE'!$G:$G)/10^6 -> -0.57723457
D19: Energy Markets Operational Costs Total | E19: £m (nominal) | F19: =SUM(F13:F18) -> 21.692836 | G19: =SUM(G13:G18) -> 29.344404 | H19: =SUM(H13:H18) -> 26.497994
B21: FTE
D23: Code Administration​ & Market Frameworks | E23: # FTE | F23: ='[1]3.1 Energy Markets'!F23 -> 53.181 | G23: =SUMIF('[2]RtB & FTE'!$D:$D,$D23,'[2]RtB & FTE'!$F:$F) -> 63.20844 | H23: =SUMIF('[2]RtB & FTE'!$D:$D,$D23,'[2]RtB & FTE'!$H:$H) -> 61.20844
D24: Electricity Market Reform (EMR) Delivery Body​ | E24: # FTE | F24: ='[1]3.1 Energy Markets'!F24 -> 45.0162 | G24: =SUMIF('[2]RtB & FTE'!$D:$D,$D24,'[2]RtB & FTE'!$F:$F) -> 49.23284 | H24: =SUMIF('[2]RtB & FTE'!$D:$D,$D24,'[2]RtB & FTE'!$H:$H) -> 49.23284
D25: Long Term Market Design | E25: # FTE | F25: ='[1]3.1 Energy Markets'!F25 -> 46.4621 | G25: =SUMIF('[2]RtB & FTE'!$D:$D,$D25,'[2]RtB & FTE'!$F:$F) -> 50.38954 | H25: =SUMIF('[2]RtB & FTE'!$D:$D,$D25,'[2]RtB & FTE'!$H:$H) -> 50.38954
D26: Market Development & Operations for Electricity System Balancing​ | E26: # FTE | F26: ='[1]3.1 Energy Markets'!F26 -> 82.8244 | G26: =SUMIF('[2]RtB & FTE'!$D:$D,$D26,'[2]RtB & FTE'!$F:$F) -> 84.87928 | H26: =SUMIF('[2]RtB & FTE'!$D:$D,$D26,'[2]RtB & FTE'!$H:$H) -> 84.87928
D27: Market Monitoring | E27: # FTE | F27: ='[1]3.1 Energy Markets'!F27 -> 9 | G27: =SUMIF('[2]RtB & FTE'!$D:$D,$D27,'[2]RtB & FTE'!$F:$F) -> 10 | H27: =SUMIF('[2]RtB & FTE'!$D:$D,$D27,'[2]RtB & FTE'!$H:$H) -> 9
D28: Central Costs - Energy Markets | E28: # FTE | F28: ='[1]3.1 Energy Markets'!F28 -> 5 | G28: =SUMIF('[2]RtB & FTE'!$D:$D,$D28,'[2]RtB & FTE'!$F:$F) -> 5 | H28: =SUMIF('[2]RtB & FTE'!$D:$D,$D28,'[2]RtB & FTE'!$H:$H) -> 5
D29: Energy Markets FTE Total | E29: # FTE | F29: =SUM(F23:F28) -> 241.4837 | G29: =SUM(G23:G28) -> 262.7101 | H29: =SUM(H23:H28) -> 259.7101
B31: Investment Costs
C33: Investment ID | D33: Investment Name
C34: NESO1-310 | D34: Reformed National Pricing | E34: £m (nominal) | F34: ='[1]3.1 Energy Markets'!$F34 -> 0 | G34: =VLOOKUP($C34,[2]Investments!$A:$E,4,FALSE)/10^6 -> 0.23450582 | H34: =VLOOKUP($C34,[2]Investments!$A:$E,5,FALSE)/10^6 -> 0
C35: NESO1-320 | D35: Capacity Market (CM) and Contracts for Difference (CfD) Regimes | E35: £m (nominal) | F35: ='[1]3.1 Energy Markets'!$F35 -> 7.4078545 | G35: =VLOOKUP($C35,[2]Investments!$A:$E,4,FALSE)/10^6 -> 0.01965432 | H35: =VLOOKUP($C35,[2]Investments!$A:$E,5,FALSE)/10^6 -> 0
C36: NESO1-330 | D36: Regulations | E36: £m (nominal) | F36: ='[1]3.1 Energy Markets'!$F36 -> 3.8832982 | G36: =VLOOKUP($C36,[2]Investments!$A:$E,4,FALSE)/10^6 -> 3.2731123 | H36: =VLOOKUP($C36,[2]Investments!$A:$E,5,FALSE)/10^6 -> 0
C37: NESO1-340 | D37: Market Access & Procurement | E37: £m (nominal) | F37: ='[1]3.1 Energy Markets'!$F37 -> 14.899956 | G37: =VLOOKUP($C37,[2]Investments!$A:$E,4,FALSE)/10^6 -> 9.7374904 | H37: =VLOOKUP($C37,[2]Investments!$A:$E,5,FALSE)/10^6 -> 12.435
C38: NESO1-350 | D38: Flexibility Enablement | E38: £m (nominal) | F38: ='[1]3.1 Energy Markets'!$F38 -> 0.15327063 | G38: =VLOOKUP($C38,[2]Investments!$A:$E,4,FALSE)/10^6 -> 0.68050245 | H38: =VLOOKUP($C38,[2]Investments!$A:$E,5,FALSE)/10^6 -> 1.9
D39: Energy Markets Investment Costs Total | E39: £m (nominal) | F39: =SUM(F34:F38) -> 26.344379 | G39: =SUM(G34:G38) -> 13.945265 | H39: =SUM(H34:H38) -> 14.335
B41: Total Costs & FTE
D43: Operational Costs | E43: £m (nominal) | F43: =F19 -> 21.692836 | G43: =G19 -> 29.344404 | H43: =H19 -> 26.497994
D44: Investment Costs | E44: £m (nominal) | F44: =F39 -> 26.344379 | G44: =G39 -> 13.945265 | H44: =H39 -> 14.335
D45: Total Costs | E45: £m (nominal) | F45: =SUM(F43:F44) -> 48.037215 | G45: =SUM(G43:G44) -> 43.289669 | H45: =SUM(H43:H44) -> 40.832994
D47: FTE | E47: # FTE | F47: =F29 -> 241.4837 | G47: =G29 -> 262.7101 | H47: =H29 -> 259.7101
D48: Total FTE | E48: # FTE | F48: =SUM(F47) -> 241.4837 | G48: =SUM(G47) -> 262.7101 | H48: =SUM(H47) -> 259.7101

Sheet 3.2 Strategic Energy Planning
A1: =Cover!$C$6 -> NESO Cost Reporting Tables
A2: =Cover!$E$12 -> National Energy System Operator
A3: =Cover!$E$16 -> 2026/27
A4: =Contents!D17 -> 3.2 Strategic Energy Planning
F6: BP3 | G6: NESO 1
F7: 2025/26 | G7: 2026/27 | H7: 2027/28
B9: NESO Strategic Energy Planning
B11: Operational Costs
D13: Centralised Strategic Network Planning​ | E13: £m (nominal) | F13: ='[1]3.2 Strategic Energy Planning'!F13 -> 9.749796 | G13: =SUMIF('[2]RtB & FTE'!$D:$D,$D13,'[2]RtB & FTE'!$E:$E)/10^6 -> 9.8574923 | H13: =SUMIF('[2]RtB & FTE'!$D:$D,$D13,'[2]RtB & FTE'!$G:$G)/10^6 -> 10.439282
D14: Gas Network Development​ | E14: £m (nominal) | F14: ='[1]3.2 Strategic Energy Planning'!F14 -> 2.2422534 | G14: =SUMIF('[2]RtB & FTE'!$D:$D,$D14,'[2]RtB & FTE'!$E:$E)/10^6 -> 1.9168621 | H14: =SUMIF('[2]RtB & FTE'!$D:$D,$D14,'[2]RtB & FTE'!$G:$G)/10^6 -> 2.1180573
D15: Network Competition | E15: £m (nominal) | F15: ='[1]3.2 Strategic Energy Planning'!F15 -> 1.7133598 | G15: =SUMIF('[2]RtB & FTE'!$D:$D,$D15,'[2]RtB & FTE'!$E:$E)/10^6 -> 1.8874418 | H15: =SUMIF('[2]RtB & FTE'!$D:$D,$D15,'[2]RtB & FTE'!$G:$G)/10^6 -> 2.4180305
D16: Regional Energy Strategic Planning (RESP)​ | E16: £m (nominal) | F16: ='[1]3.2 Strategic Energy Planning'!F16 -> 16.260364 | G16: =SUMIF('[2]RtB & FTE'!$D:$D,$D16,'[2]RtB & FTE'!$E:$E)/10^6 -> 22.5578 | H16: =SUMIF('[2]RtB & FTE'!$D:$D,$D16,'[2]RtB & FTE'!$G:$G)/10^6 -> 23.243007
D17: Strategic Spatial Energy Planning (SSEP) | E17: £m (nominal) | F17: ='[1]3.2 Strategic Energy Planning'!F17 -> 7.8819604 | G17: =SUMIF('[2]RtB & FTE'!$D:$D,$D17,'[2]RtB & FTE'!$E:$E)/10^6 -> 7.0645285 | H17: =SUMIF('[2]RtB & FTE'!$D:$D,$D17,'[2]RtB & FTE'!$G:$G)/10^6 -> 7.3046685
D18: Zero Carbon Operation Strategy | E18: £m (nominal) | F18: ='[1]3.2 Strategic Energy Planning'!F18 -> 4.3104775 | G18: =SUMIF('[2]RtB & FTE'!$D:$D,$D18,'[2]RtB & FTE'!$E:$E)/10^6 -> 4.4761679 | H18: =SUMIF('[2]RtB & FTE'!$D:$D,$D18,'[2]RtB & FTE'!$G:$G)/10^6 -> 4.640847
D19: Hydrogen Planner | E19: £m (nominal) | F19: ='[1]3.2 Strategic Energy Planning'!F19 -> 0 | G19: =SUMIF('[2]RtB & FTE'!$D:$D,$D19,'[2]RtB & FTE'!$E:$E)/10^6 -> 0.30697979 | H19: =SUMIF('[2]RtB & FTE'!$D:$D,$D19,'[2]RtB & FTE'!$G:$G)/10^6 -> 1.2370623
D20: Central Costs - Strategic Energy Planning | E20: £m (nominal) | F20: ='[1]3.2 Strategic Energy Planning'!F20 -> 7.6022755 | G20: =SUMIF('[2]RtB & FTE'!$D:$D,$D20,'[2]RtB & FTE'!$E:$E)/10^6 -> 8.8397655 | H20: =SUMIF('[2]RtB & FTE'!$D:$D,$D20,'[2]RtB & FTE'!$G:$G)/10^6 -> 11.978218
D21: Strategic Energy Planning Operational Costs Total | E21: £m (nominal) | F21: =SUM(F13:F20) -> 49.760487 | G21: =SUM(G13:G20) -> 56.907038 | H21: =SUM(H13:H20) -> 63.379173
B23: FTE
D25: Centralised Strategic Network Planning​ | E25: # FTE | F25: ='[1]3.2 Strategic Energy Planning'!F25 -> 85.1486 | G25: =SUMIF('[2]RtB & FTE'!$D:$D,$D25,'[2]RtB & FTE'!$F:$F) -> 88.044847 | H25: =SUMIF('[2]RtB & FTE'!$D:$D,$D25,'[2]RtB & FTE'!$H:$H) -> 89.044847
D26: Gas Network Development​ | E26: # FTE | F26: ='[1]3.2 Strategic Energy Planning'!F26 -> 25 | G26: =SUMIF('[2]RtB & FTE'!$D:$D,$D26,'[2]RtB & FTE'!$F:$F) -> 20.544714 | H26: =SUMIF('[2]RtB & FTE'!$D:$D,$D26,'[2]RtB & FTE'!$H:$H) -> 23.544714
D27: Network Competition | E27: # FTE | F27: ='[1]3.2 Strategic Energy Planning'!F27 -> 8 | G27: =SUMIF('[2]RtB & FTE'!$D:$D,$D27,'[2]RtB & FTE'!$F:$F) -> 9 | H27: =SUMIF('[2]RtB & FTE'!$D:$D,$D27,'[2]RtB & FTE'!$H:$H) -> 10
D28: Regional Energy Strategic Planning (RESP)​ | E28: # FTE | F28: ='[1]3.2 Strategic Energy Planning'!F28 -> 130.725 | G28: =SUMIF('[2]RtB & FTE'!$D:$D,$D28,'[2]RtB & FTE'!$F:$F) -> 169.21396 | H28: =SUMIF('[2]RtB & FTE'!$D:$D,$D28,'[2]RtB & FTE'!$H:$H) -> 169.21396
D29: Strategic Spatial Energy Planning (SSEP) | E29: # FTE | F29: ='[1]3.2 Strategic Energy Planning'!F29 -> 48.5594 | G29: =SUMIF('[2]RtB & FTE'!$D:$D,$D29,'[2]RtB & FTE'!$F:$F) -> 38.317225 | H29: =SUMIF('[2]RtB & FTE'!$D:$D,$D29,'[2]RtB & FTE'!$H:$H) -> 39.317225
D30: Zero Carbon Operation Strategy | E30: # FTE | F30: ='[1]3.2 Strategic Energy Planning'!F30 -> 32 | G30: =SUMIF('[2]RtB & FTE'!$D:$D,$D30,'[2]RtB & FTE'!$F:$F) -> 34.032111 | H30: =SUMIF('[2]RtB & FTE'!$D:$D,$D30,'[2]RtB & FTE'!$H:$H) -> 35.032111
D31: Hydrogen Planner | E31: # FTE | F31: ='[1]3.2 Strategic Energy Planning'!F31 -> 0 | G31: =SUMIF('[2]RtB & FTE'!$D:$D,$D31,'[2]RtB & FTE'!$F:$F) -> 5.4799347 | H31: =SUMIF('[2]RtB & FTE'!$D:$D,$D31,'[2]RtB & FTE'!$H:$H) -> 17.479935
D32: Central Costs - Strategic Energy Planning | E32: # FTE | F32: ='[1]3.2 Strategic Energy Planning'!F32 -> 54.3513 | G32: =SUMIF('[2]RtB & FTE'!$D:$D,$D32,'[2]RtB & FTE'!$F:$F) -> 75.304512 | H32: =SUMIF('[2]RtB & FTE'!$D:$D,$D32,'[2]RtB & FTE'!$H:$H) -> 88.304512
D33: Strategic Energy Planning FTE Total | E33: # FTE | F33: =SUM(F25:F32) -> 383.7843 | G33: =SUM(G25:G32) -> 439.9373 | H33: =SUM(H25:H32) -> 471.9373
B35: Investment Costs
C37: Investment ID | D37: Investment Name
C38: NESO1-250 | D38: Strategic Energy Planning | E38: £m (nominal) | F38: ='[1]3.2 Strategic Energy Planning'!$F$38 -> 6.7488495 | G38: =VLOOKUP($C38,[2]Investments!$A:$E,4,FALSE)/10^6 -> 10.659519 | H38: =VLOOKUP($C38,[2]Investments!$A:$E,5,FALSE)/10^6 -> 13.5
D39: Strategic Energy Planning Investment Costs Total | E39: £m (nominal) | F39: =SUM(F38:F38) -> 6.7488495 | G39: =SUM(G38:G38) -> 10.659519 | H39: =SUM(H38:H38) -> 13.5
B41: Total Costs & FTE
D43: Operational Costs | E43: £m (nominal) | F43: =F21 -> 49.760487 | G43: =G21 -> 56.907038 | H43: =H21 -> 63.379173
D44: Investment Costs | E44: £m (nominal) | F44: =F39 -> 6.7488495 | G44: =G39 -> 10.659519 | H44: =H39 -> 13.5
D45: Total Costs | E45: £m (nominal) | F45: =SUM(F43:F44) -> 56.509336 | G45: =SUM(G43:G44) -> 67.566556 | H45: =SUM(H43:H44) -> 76.879173
D47: FTE | E47: # FTE | F47: =F33 -> 383.7843 | G47: =G33 -> 439.9373 | H47: =H33 -> 471.9373
D48: Total FTE | E48: # FTE | F48: =SUM(F47) -> 383.7843 | G48: =SUM(G47) -> 439.9373 | H48: =SUM(H47) -> 471.9373

Sheet 3.3 Energy Insights
A1: =Cover!$C$6 -> NESO Cost Reporting Tables
A2: =Cover!$E$12 -> National Energy System Operator
A3: =Cover!$E$16 -> 2026/27
A4: =Contents!D18 -> 3.3 Energy Insights
F6: BP3 | G6: NESO 1
F7: 2025/26 | G7: 2026/27 | H7: 2027/28
B9: NESO Energy Insights
B11: Operational Costs
D13: Policy Advice | E13: £m (nominal) | F13: ='[1]3.3 Energy Insights'!F13 -> 1.8943776 | G13: =SUMIF('[2]RtB & FTE'!$D:$D,$D13,'[2]RtB & FTE'!$E:$E)/10^6 -> 2.040107 | H13: =SUMIF('[2]RtB & FTE'!$D:$D,$D13,'[2]RtB & FTE'!$G:$G)/10^6 -> 1.92417
D14: Scenario Development | E14: £m (nominal) | F14: ='[1]3.3 Energy Insights'!F14 -> 4.1585669 | G14: =SUMIF('[2]RtB & FTE'!$D:$D,$D14,'[2]RtB & FTE'!$E:$E)/10^6 -> 3.9701518 | H14: =SUMIF('[2]RtB & FTE'!$D:$D,$D14,'[2]RtB & FTE'!$G:$G)/10^6 -> 4.1332856
D15: Whole Energy Insights​ | E15: £m (nominal) | F15: ='[1]3.3 Energy Insights'!F15 -> 3.3784561 | G15: =SUMIF('[2]RtB & FTE'!$D:$D,$D15,'[2]RtB & FTE'!$E:$E)/10^6 -> 4.3043112 | H15: =SUMIF('[2]RtB & FTE'!$D:$D,$D15,'[2]RtB & FTE'!$G:$G)/10^6 -> 4.6565367
D16: Central Costs - Energy Insights | E16: £m (nominal) | F16: ='[1]3.3 Energy Insights'!F16 -> 1.2210847 | G16: =SUMIF('[2]RtB & FTE'!$D:$D,$D16,'[2]RtB & FTE'!$E:$E)/10^6 -> 0.39498427 | H16: =SUMIF('[2]RtB & FTE'!$D:$D,$D16,'[2]RtB & FTE'!$G:$G)/10^6 -> 0.54439889
D17: Energy Insights Operational Costs Total | E17: £m (nominal) | F17: =SUM(F13:F16) -> 10.652485 | G17: =SUM(G13:G16) -> 10.709554 | H17: =SUM(H13:H16) -> 11.258391
B19: FTE
D21: Policy Advice | E21: # FTE | F21: ='[1]3.3 Energy Insights'!F21 -> 18.9189 | G21: =SUMIF('[2]RtB & FTE'!$D:$D,$D21,'[2]RtB & FTE'!$F:$F) -> 18.4928 | H21: =SUMIF('[2]RtB & FTE'!$D:$D,$D21,'[2]RtB & FTE'!$H:$H) -> 17.4928
D22: Scenario Development | E22: # FTE | F22: ='[1]3.3 Energy Insights'!F22 -> 37.6306 | G22: =SUMIF('[2]RtB & FTE'!$D:$D,$D22,'[2]RtB & FTE'!$F:$F) -> 36.4018 | H22: =SUMIF('[2]RtB & FTE'!$D:$D,$D22,'[2]RtB & FTE'!$H:$H) -> 37.4018
D23: Whole Energy Insights​ | E23: # FTE | F23: ='[1]3.3 Energy Insights'!F23 -> 24.1539 | G23: =SUMIF('[2]RtB & FTE'!$D:$D,$D23,'[2]RtB & FTE'!$F:$F) -> 39.044 | H23: =SUMIF('[2]RtB & FTE'!$D:$D,$D23,'[2]RtB & FTE'!$H:$H) -> 39.044
D24: Central Costs - Energy Insights | E24: # FTE | F24: ='[1]3.3 Energy Insights'!F24 -> 13 | G24: =SUMIF('[2]RtB & FTE'!$D:$D,$D24,'[2]RtB & FTE'!$F:$F) -> 3 | H24: =SUMIF('[2]RtB & FTE'!$D:$D,$D24,'[2]RtB & FTE'!$H:$H) -> 3
D25: Energy Insights FTE Total | E25: # FTE | F25: =SUM(F21:F24) -> 93.7034 | G25: =SUM(G21:G24) -> 96.9386 | H25: =SUM(H21:H24) -> 96.9386
B27: Investment Costs
C29: Investment ID | D29: Investment Name
E30: £m (nominal)
E31: £m (nominal)
E32: £m (nominal)
E33: £m (nominal)
E34: £m (nominal)
E35: £m (nominal)
E36: £m (nominal)
E37: £m (nominal)
E38: £m (nominal)
E39: £m (nominal)
D40: Energy Insights Investment Costs Total | E40: £m (nominal) | F40: =SUM(F30:F39) -> 0 | G40: =SUM(G30:G39) -> 0 | H40: =SUM(H30:H39) -> 0
B42: Total Costs & FTE
D44: Operational Costs | E44: £m (nominal) | F44: =F17 -> 10.652485 | G44: =G17 -> 10.709554 | H44: =H17 -> 11.258391
D45: Investment Costs | E45: £m (nominal) | F45: =F40 -> 0 | G45: =G40 -> 0 | H45: =H40 -> 0
D46: Total Costs | E46: £m (nominal) | F46: =SUM(F44:F45) -> 10.652485 | G46: =SUM(G44:G45) -> 10.709554 | H46: =SUM(H44:H45) -> 11.258391
D48: FTE | E48: # FTE | F48: =F25 -> 93.7034 | G48: =G25 -> 96.9386 | H48: =H25 -> 96.9386
D49: Total FTE | E49: # FTE | F49: =SUM(F48) -> 93.7034 | G49: =SUM(G48) -> 96.9386 | H49: =SUM(H48) -> 96.9386

Sheet 3.4 Security of Supply
A1: =Cover!$C$6 -> NESO Cost Reporting Tables
A2: =Cover!$E$12 -> National Energy System Operator
A3: =Cover!$E$16 -> 2026/27
A4: =Contents!D19 -> 3.4 Security of Supply Modelling
F6: BP3 | G6: NESO 1
F7: 2025/26 | G7: 2026/27 | H7: 2027/28
B9: NESO Security of Supply Modelling
B11: Operational Costs
D13: Energy Security Modelling & Insights​ | E13: £m (nominal) | F13: ='[1]3.4 Security of Supply'!F13 -> 3.7548308 | G13: =SUMIF('[2]RtB & FTE'!$D:$D,$D13,'[2]RtB & FTE'!$E:$E)/10^6 -> 3.8470087 | H13: =SUMIF('[2]RtB & FTE'!$D:$D,$D13,'[2]RtB & FTE'!$G:$G)/10^6 -> 4.2283668
D14: Hydrogen Security | E14: £m (nominal) | F14: ='[1]3.4 Security of Supply'!F14 -> 0 | G14: =SUMIF('[2]RtB & FTE'!$D:$D,$D14,'[2]RtB & FTE'!$E:$E)/10^6 -> 0 | H14: =SUMIF('[2]RtB & FTE'!$D:$D,$D14,'[2]RtB & FTE'!$G:$G)/10^6 -> 0
D15: Central Costs - Security of Supply Modelling | E15: £m (nominal) | F15: ='[1]3.4 Security of Supply'!F15 -> 0 | G15: =SUMIF('[2]RtB & FTE'!$D:$D,$D15,'[2]RtB & FTE'!$E:$E)/10^6 -> 0 | H15: =SUMIF('[2]RtB & FTE'!$D:$D,$D15,'[2]RtB & FTE'!$G:$G)/10^6 -> 0
D16: Security of Supply Modelling Operational Costs Total | E16: £m (nominal) | F16: =SUM(F13:F15) -> 3.7548308 | G16: =SUM(G13:G15) -> 3.8470087 | H16: =SUM(H13:H15) -> 4.2283668
B18: FTE
D20: Energy Security Modelling & Insights​ | E20: # FTE | F20: ='[1]3.4 Security of Supply'!F20 -> 36.3243 | G20: =SUMIF('[2]RtB & FTE'!$D:$D,$D20,'[2]RtB & FTE'!$F:$F) -> 39.6443 | H20: =SUMIF('[2]RtB & FTE'!$D:$D,$D20,'[2]RtB & FTE'!$H:$H) -> 39.6443
D21: Hydrogen Security | E21: # FTE | F21: ='[1]3.4 Security of Supply'!F21 -> 0 | G21: =SUMIF('[2]RtB & FTE'!$D:$D,$D21,'[2]RtB & FTE'!$F:$F) -> 0 | H21: =SUMIF('[2]RtB & FTE'!$D:$D,$D21,'[2]RtB & FTE'!$H:$H) -> 0
D22: Central Costs - Security of Supply Modelling | E22: # FTE | F22: ='[1]3.4 Security of Supply'!F22 -> 0 | G22: =SUMIF('[2]RtB & FTE'!$D:$D,$D22,'[2]RtB & FTE'!$F:$F) -> 0 | H22: =SUMIF('[2]RtB & FTE'!$D:$D,$D22,'[2]RtB & FTE'!$H:$H) -> 0
D23: Security of Supply Modelling FTE Total | E23: # FTE | F23: =SUM(F20:F22) -> 36.3243 | G23: =SUM(G20:G22) -> 39.6443 | H23: =SUM(H20:H22) -> 39.6443
B25: Investment Costs
C27: Investment ID | D27: Investment Name
E28: £m (nominal)
E29: £m (nominal)
E30: £m (nominal)
E31: £m (nominal)
E32: £m (nominal)
E33: £m (nominal)
E34: £m (nominal)
E35: £m (nominal)
E36: £m (nominal)
E37: £m (nominal)
E38: £m (nominal)
D39: Security of Supply Modelling Investment Costs Total | E39: £m (nominal) | F39: =SUM(F28:F38) -> 0 | G39: =SUM(G28:G38) -> 0 | H39: =SUM(H28:H38) -> 0
B41: Total Costs & FTE
D43: Operational Costs | E43: £m (nominal) | F43: =F16 -> 3.7548308 | G43: =G16 -> 3.8470087 | H43: =H16 -> 4.2283668
D44: Investment Costs | E44: £m (nominal) | F44: =F39 -> 0 | G44: =G39 -> 0 | H44: =H39 -> 0
D45: Total Costs | E45: £m (nominal) | F45: =SUM(F43:F44) -> 3.7548308 | G45: =SUM(G43:G44) -> 3.8470087 | H45: =SUM(H43:H44) -> 4.2283668
D47: FTE | E47: # FTE | F47: =F23 -> 36.3243 | G47: =G23 -> 39.6443 | H47: =H23 -> 39.6443
D48: Total FTE | E48: # FTE | F48: =SUM(F47) -> 36.3243 | G48: =SUM(G47) -> 39.6443 | H48: =SUM(H47) -> 39.6443

Sheet 3.5 Whole Energy System Resilie
A1: =Cover!$C$6 -> NESO Cost Reporting Tables
A2: =Cover!$E$12 -> National Energy System Operator
A3: =Cover!$E$16 -> 2026/27
A4: =Contents!D20 -> 3.5 Whole Energy System Resilience
F6: BP3 | G6: NESO 1
F7: 2025/26 | G7: 2026/27 | H7: 2027/28
B9: NESO Whole Energy System Resilience
B11: Operational Costs
D13: Emergency Preparedness & Restoration | E13: £m (nominal) | F13: ='[1]3.5 Whole Energy System Resilie'!$F$13 -> 3.7138891 | G13: =SUMIF('[2]RtB & FTE'!$D:$D,$D13,'[2]RtB & FTE'!$E:$E)/10^6 -> 3.0426331 | H13: =SUMIF('[2]RtB & FTE'!$D:$D,$D13,'[2]RtB & FTE'!$G:$G)/10^6 -> 3.633695
D14: Technical Office for Energy Resilience & Security | E14: £m (nominal) | F14: 0 | G14: =SUMIF('[2]RtB & FTE'!$D:$D,$D14,'[2]RtB & FTE'!$E:$E)/10^6 -> 0 | H14: =SUMIF('[2]RtB & FTE'!$D:$D,$D14,'[2]RtB & FTE'!$G:$G)/10^6 -> 0
